Workbook

Sheet Auszahlung Erzeuger
B1: Demeter Landbauerzeugnisse GmbH
B2: Auf den Stücken 4
B3: 58455 Witten
B4: Tel.: 02302/1791671 Fax: 02302/276941
B5: info@demeter-fleisch.de
B7: Auszahlungspreise Demeter-/Bio-Schweine | G7: ab 01.07.2026
B8: Auszahlungspreise frei Schachtstätte Warmschlachtgewicht
B9: in Seestermühe, Itzehoe, Unna, Fulda oder Bad Bevensen
C10: >55,5% Magerfleisch | D10: 53% - 55,5% Magerfleisch | E10: >55,5% Magerfleisch | F10: 120kg bis 130kg | G10: über 130 kg
B11: pro kg SG | C11: 3.95 | D11: 3.85 | E11: 3.75 | F11: 3.75 | G11: 3.5
C12: Zielgewicht 85 bis 120 kg
B14: Pauschale Abgabe für die EZG
C15: pro Schwein | D15: -5
B17: Auszahlungspreise Demeter-/Bio-Rinder | G17: ab 10.08.2026
B18: Auszahlungspreise frei Schachtstätte Warmschlachtgewicht
B19: in Detern, Itzehoe, Unna, Borgholzhausen und Bad Bevensen
C20: Färsen | D20: Ochsen | E20: Jung-bullen | F20: Kühe | G20: Bullen (Ochsen) | H20: Bullen (Ochsen)
B21: Alter | C21: bis 36 Monate | D21: bis 36 Monate | E21: bis 30 Monate | F21: ab 36 Monate | G21: ab 30 bis 36 Monate | H21: ab 36 Monate
B22: Zielgewichte | C22: ab 300 kg | D22: ab 300 kg | E22: ab 300 kg | F22: ab 250 kg | G22: ab 300 kg (Ochsen 36 - 42 Monate) | H22: ab 300 kg (Ochsen ab 42 Monate)
B24: -0.1 | C24: Fettstufe 1 Fettstufe 1 Fettstufe 1 Fettstufe 1
B25: U | C25: =+C30+$B$24 -> 7.1 | D25: =+D30+$B$24 -> 7.25 | E25: =+E30+$B$24 -> 7.25 | F25: =+F30+$B$24 -> 6.25 | G25: =+G30+$B$24 -> 6.75 | H25: =+F25+$H$91 -> 6.55
B26: R | C26: =+C31+$B$24 -> 7 | D26: =+D31+$B$24 -> 7.15 | E26: =+E31+$B$24 -> 7.15 | F26: =+F31+$B$24 -> 6.2 | G26: =+G31+$B$24 -> 6.7 | H26: =+F26+$H$91 -> 6.5
B27: O | C27: =+C32+$B$24 -> 6.85 | D27: =+D32+$B$24 -> 6.9 | E27: =+E32+$B$24 -> 6.9 | F27: =+F32+$B$24 -> 6 | G27: =+G32+$B$24 -> 6.5 | H27: =+F27+$H$91 -> 6.3
B28: P | C28: =+F28 -> 5.4 | D28: =+F28 -> 5.4 | E28: =+F28 -> 5.4 | F28: =+F33+$B$24 -> 5.4 | G28: =+F28 -> 5.4 | H28: =+G28 -> 5.4
B29: 0 | C29: Fettstufe 2 Fettstufe 2 Fettstufe 2 Fettstufe 2
B30: U | C30: 7.2 | D30: 7.35 | E30: 7.35 | F30: 6.35 | G30: =+F30+$G$91 -> 6.85 | H30: =+F30+$H$91 -> 6.65
B31: R | C31: 7.1 | D31: 7.25 | E31: 7.25 | F31: 6.3 | G31: =+F31+$G$91 -> 6.8 | H31: =+F31+$H$91 -> 6.6
B32: O | C32: 6.95 | D32: 7 | E32: 7 | F32: 6.1 | G32: =+F32+$G$91 -> 6.6 | H32: =+F32+$H$91 -> 6.4
B33: P | C33: 5.6 | D33: 5.6 | E33: 5.5 | F33: 5.5 | G33: 5.6 | H33: 5.6
B34: 0.05 | C34: Fettstufe 3 Fettstufe 3 Fettstufe 3 Fettstufe 3
B35: U | C35: =+$B$34+C30 -> 7.25 | D35: =+$B$34+D30 -> 7.4 | E35: =+$B$34+E30 -> 7.4 | F35: =+F30+$B$34 -> 6.4 | G35: =+G30+$B$34 -> 6.9 | H35: =+F35+$H$91 -> 6.7
B36: R | C36: =+$B$34+C31 -> 7.15 | D36: =+$B$34+D31 -> 7.3 | E36: =+$B$34+E31 -> 7.3 | F36: =+F31+$B$34 -> 6.35 | G36: =+G31+$B$34 -> 6.85 | H36: =+F36+$H$91 -> 6.65
B37: O | C37: =+$B$34+C32 -> 7 | D37: =+$B$34+D32 -> 7.05 | E37: =+$B$34+E32 -> 7.05 | F37: =+F32+$B$34 -> 6.15 | G37: =+G32+$B$34 -> 6.65 | H37: =+F37+$H$91 -> 6.45
B38: P | C38: =+C33 -> 5.6 | D38: =+D33 -> 5.6 | E38: =+E33 -> 5.5 | F38: =+F33 -> 5.5 | G38: =+G33 -> 5.6 | H38: =+H33 -> 5.6
B39: -0.15 | C39: Fettstufe 4 Fettstufe 4 Fettstufe 4 Fettstufe 4
B40: U | C40: =+C35+$B$39 -> 7.1 | D40: =+D35+$B$39 -> 7.25 | E40: =+E35+$B$39 -> 7.25 | F40: =+F35+$B$39 -> 6.25 | G40: =+F40+$G$91 -> 6.75 | H40: =+F40+$H$91 -> 6.55
B41: R | C41: =+C36+$B$39 -> 7 | D41: =+D36+$B$39 -> 7.15 | E41: =+E36+$B$39 -> 7.15 | F41: =+F36+$B$39 -> 6.2 | G41: =+F41+$G$91 -> 6.7 | H41: =+F41+$H$91 -> 6.5
B42: O | C42: =+C37+$B$39 -> 6.85 | D42: =+D37+$B$39 -> 6.9 | E42: =+E37+$B$39 -> 6.9 | F42: =+F37+$B$39 -> 6 | G42: =+F42+$G$91 -> 6.5 | H42: =+F42+$H$91 -> 6.3
B43: P | C43: =+C28 -> 5.4 | D43: =+D28 -> 5.4 | E43: =+E28 -> 5.4 | F43: =+F28 -> 5.4 | G43: =+G28 -> 5.4 | H43: =+H28 -> 5.4
C44: Fettstufe 5+ Fettstufe 5+ Fettstufe 5+ Fettstufe 5+
...

Sheet Preise EH
B1: Demeter Landbauerzeugnisse GmbH
B2: Auf den Stücken 4
B3: 58455 Witten
B4: Tel.: 02302/1791671
B5: Fax: 02302/276941
B6: info@demeter-fleisch.de
B8: Auszahlungspreise Bio-Schweine gültig | G8: ab 01.01.2021
B9: Auszahlungspreise frei Schachtstätte
B10: Klasse | C10: E (+55%MFL) (S +0,05€/kg) | D10: U (50-54%MFL) | E10: R (45-49%MFL) | F10: Pauschal alle SN >120kg-150 kg | G10: O und >150 kg | H10: Schweine P + Sauen
B11: pro kg SG | C11: 3.85 | D11: 3.75 | E11: 3.55 | F11: 3.5 | G11: 3.2 | H11: 2.7
C12: Zielgewicht bis 120 kg
B14: Pauschale Abgabe für die EZG
C15: pro Schwein | D15: -5
B17: Preise frei Haus Demeter-Rinder | G17: ab 15.06.2022
B18: kalt, geviertelt hängend, ohne Köpfe, Innereien und Schwänze
B19: Schlachtung Fulda ab 15 Tiere, Detern, Bad Bevensen, Itzehoe und Unna ab min. 5 Tiere
B20: Netto Preise zuzgl. MWSt / Zahlung 14 Tage nach Rechnungsstellung
B22: Aufschlag | C22: 0.9 | D22: 0.9 | E22: 0.9 | F22: 0.9 | G22: 0.9 | H22: 0.9
C24: Färsen | D24: Ochsen | E24: Jung-bullen | F24: Kühe | G24: Bullen (Ochsen) | H24: Bullen (Ochsen)
B25: Preise incl. nebenstehen-den Demeter -aufschlag | C25: 0.95 | D25: Jungbullen-Preis | E25: 1 | F25: siehe unten
B26: Alter | C26: bis 36 Monate | D26: bis 40 Monate | E26: bis 36 Monate | F26: ab 36 Monate | G26: ab 30 bis 36 Monate | H26: ab 36 Monate
B27: Zielgewichte | C27: ab 300 kg bis 380 kg | D27: ab 280 kg -400 kg | E27: ab 300 kg bis 420 kg | F27: ab 280 kg | G27: ab 300 kg (Ochsen 36 - 42 Monate) | H27: ab 300 kg (Ochsen ab 42 Monate)
B29: -0.1 | C29: Fettstufe 1 Fettstufe 1 Fettstufe 1 Fettstufe 1
B30: U | C30: =(+'Auszahlung Erzeuger'!C25*'Auszahlung Erzeuger'!$C$92/'Auszahlung Erzeuger'!$C$93)+$C$22 -> 8.144898 | D30: =(+'Auszahlung Erzeuger'!D25*'Auszahlung Erzeuger'!$D$92/'Auszahlung Erzeuger'!$D$93)+$D$22 -> 8.2979592 | E30: =(+'Auszahlung Erzeuger'!E25*'Auszahlung Erzeuger'!$E$92/'Auszahlung Erzeuger'!$E$93)+$E$22 -> 8.2979592 | F30: =(+'Auszahlung Erzeuger'!F25*'Auszahlung Erzeuger'!$F$92/'Auszahlung Erzeuger'!$F$93)+$F$22 -> 7.277551 | G30: =(+'Auszahlung Erzeuger'!G25*'Auszahlung Erzeuger'!$G$92/'Auszahlung Erzeuger'!$G$93)+$H$22 -> 7.7877551 | H30: =(+'Auszahlung Erzeuger'!H25*'Auszahlung Erzeuger'!$G$92/'Auszahlung Erzeuger'!$G$93)+$H$22 -> 7.5836735
B31: R | C31: =(+'Auszahlung Erzeuger'!C26*'Auszahlung Erzeuger'!$C$92/'Auszahlung Erzeuger'!$C$93)+$C$22 -> 8.0428571 | D31: =(+'Auszahlung Erzeuger'!D26*'Auszahlung Erzeuger'!$D$92/'Auszahlung Erzeuger'!$D$93)+$D$22 -> 8.1959184 | E31: =(+'Auszahlung Erzeuger'!E26*'Auszahlung Erzeuger'!$E$92/'Auszahlung Erzeuger'!$E$93)+$E$22 -> 8.1959184 | F31: =(+'Auszahlung Erzeuger'!F26*'Auszahlung Erzeuger'!$F$92/'Auszahlung Erzeuger'!$F$93)+$F$22 -> 7.2265306 | G31: =(+'Auszahlung Erzeuger'!G26*'Auszahlung Erzeuger'!$G$92/'Auszahlung Erzeuger'!$G$93)+$H$22 -> 7.7367347 | H31: =(+'Auszahlung Erzeuger'!H26*'Auszahlung Erzeuger'!$G$92/'Auszahlung Erzeuger'!$G$93)+$H$22 -> 7.5326531
B32: O | C32: =(+'Auszahlung Erzeuger'!C27*'Auszahlung Erzeuger'!$C$92/'Auszahlung Erzeuger'!$C$93)+$C$22 -> 7.8897959 | D32: =(+'Auszahlung Erzeuger'!D27*'Auszahlung Erzeuger'!$D$92/'Auszahlung Erzeuger'!$D$93)+$D$22 -> 7.9408163 | E32: =(+'Auszahlung Erzeuger'!E27*'Auszahlung Erzeuger'!$E$92/'Auszahlung Erzeuger'!$E$93)+$E$22 -> 7.9408163 | F32: =(+'Auszahlung Erzeuger'!F27*'Auszahlung Erzeuger'!$F$92/'Auszahlung Erzeuger'!$F$93)+$F$22 -> 7.022449 | G32: =(+'Auszahlung Erzeuger'!G27*'Auszahlung Erzeuger'!$G$92/'Auszahlung Erzeuger'!$G$93)+$H$22 -> 7.5326531 | H32: =(+'Auszahlung Erzeuger'!H27*'Auszahlung Erzeuger'!$G$92/'Auszahlung Erzeuger'!$G$93)+$H$22 -> 7.3285714
B33: P | C33: =(+'Auszahlung Erzeuger'!C28*'Auszahlung Erzeuger'!$C$92/'Auszahlung Erzeuger'!$C$93)+$C$22 -> 6.4102041 | D33: =(+'Auszahlung Erzeuger'!D28*'Auszahlung Erzeuger'!$D$92/'Auszahlung Erzeuger'!$D$93)+$D$22 -> 6.4102041 | E33: =(+'Auszahlung Erzeuger'!E28*'Auszahlung Erzeuger'!$E$92/'Auszahlung Erzeuger'!$E$93)+$E$22 -> 6.4102041 | F33: =(+'Auszahlung Erzeuger'!F28*'Auszahlung Erzeuger'!$F$92/'Auszahlung Erzeuger'!$F$93)+$F$22 -> 6.4102041 | G33: =(+'Auszahlung Erzeuger'!G28*'Auszahlung Erzeuger'!$G$92/'Auszahlung Erzeuger'!$G$93)+$H$22 -> 6.4102041 | H33: =(+'Auszahlung Erzeuger'!H28*'Auszahlung Erzeuger'!$G$92/'Auszahlung Erzeuger'!$G$93)+$H$22 -> 6.4102041
B34: Gesetzt | C34: Fettstufe 2 Fettstufe 2 Fettstufe 2 Fettstufe 2
B35: U | C35: =(+'Auszahlung Erzeuger'!C30*'Auszahlung Erzeuger'!$C$92/'Auszahlung Erzeuger'!$C$93)+$C$22 -> 8.2469388 | D35: =(+'Auszahlung Erzeuger'!D30*'Auszahlung Erzeuger'!$D$92/'Auszahlung Erzeuger'!$D$93)+$D$22 -> 8.4 | E35: =(+'Auszahlung Erzeuger'!E30*'Auszahlung Erzeuger'!$E$92/'Auszahlung Erzeuger'!$E$93)+$E$22 -> 8.4 | F35: =(+'Auszahlung Erzeuger'!F30*'Auszahlung Erzeuger'!$F$92/'Auszahlung Erzeuger'!$F$93)+$F$22 -> 7.3795918 | G35: =(+'Auszahlung Erzeuger'!G30*'Auszahlung Erzeuger'!$G$92/'Auszahlung Erzeuger'!$G$93)+$H$22 -> 7.8897959 | H35: =(+'Auszahlung Erzeuger'!H30*'Auszahlung Erzeuger'!$G$92/'Auszahlung Erzeuger'!$G$93)+$H$22 -> 7.6857143
B36: R | C36: =(+'Auszahlung Erzeuger'!C31*'Auszahlung Erzeuger'!$C$92/'Auszahlung Erzeuger'!$C$93)+$C$22 -> 8.144898 | D36: =(+'Auszahlung Erzeuger'!D31*'Auszahlung Erzeuger'!$D$92/'Auszahlung Erzeuger'!$D$93)+$D$22 -> 8.2979592 | E36: =(+'Auszahlung Erzeuger'!E31*'Auszahlung Erzeuger'!$E$92/'Auszahlung Erzeuger'!$E$93)+$E$22 -> 8.2979592 | F36: =(+'Auszahlung Erzeuger'!F31*'Auszahlung Erzeuger'!$F$92/'Auszahlung Erzeuger'!$F$93)+$F$22 -> 7.3285714 | G36: =(+'Auszahlung Erzeuger'!G31*'Auszahlung Erzeuger'!$G$92/'Auszahlung Erzeuger'!$G$93)+$H$22 -> 7.8387755 | H36: =(+'Auszahlung Erzeuger'!H31*'Auszahlung Erzeuger'!$G$92/'Auszahlung Erzeuger'!$G$93)+$H$22 -> 7.6346939
B37: O | C37: =(+'Auszahlung Erzeuger'!C32*'Auszahlung Erzeuger'!$C$92/'Auszahlung Erzeuger'!$C$93)+$C$22 -> 7.9918367 | D37: =(+'Auszahlung Erzeuger'!D32*'Auszahlung Erzeuger'!$D$92/'Auszahlung Erzeuger'!$D$93)+$D$22 -> 8.0428571 | E37: =(+'Auszahlung Erzeuger'!E32*'Auszahlung Erzeuger'!$E$92/'Auszahlung Erzeuger'!$E$93)+$E$22 -> 8.0428571 | F37: =(+'Auszahlung Erzeuger'!F32*'Auszahlung Erzeuger'!$F$92/'Auszahlung Erzeuger'!$F$93)+$F$22 -> 7.1244898 | G37: =(+'Auszahlung Erzeuger'!G32*'Auszahlung Erzeuger'!$G$92/'Auszahlung Erzeuger'!$G$93)+$H$22 -> 7.6346939 | H37: =(+'Auszahlung Erzeuger'!H32*'Auszahlung Erzeuger'!$G$92/'Auszahlung Erzeuger'!$G$93)+$H$22 -> 7.4306122
B38: P | C38: =(+'Auszahlung Erzeuger'!C33*'Auszahlung Erzeuger'!$C$92/'Auszahlung Erzeuger'!$C$93)+$C$22 -> 6.6142857 | D38: =(+'Auszahlung Erzeuger'!D33*'Auszahlung Erzeuger'!$D$92/'Auszahlung Erzeuger'!$D$93)+$D$22 -> 6.6142857 | E38: =(+'Auszahlung Erzeuger'!E33*'Auszahlung Erzeuger'!$E$92/'Auszahlung Erzeuger'!$E$93)+$E$22 -> 6.5122449 | F38: =(+'Auszahlung Erzeuger'!F33*'Auszahlung Erzeuger'!$F$92/'Auszahlung Erzeuger'!$F$93)+$F$22 -> 6.5122449 | G38: =(+'Auszahlung Erzeuger'!G33*'Auszahlung Erzeuger'!$G$92/'Auszahlung Erzeuger'!$G$93)+$H$22 -> 6.6142857 | H38: =(+'Auszahlung Erzeuger'!H33*'Auszahlung Erzeuger'!$G$92/'Auszahlung Erzeuger'!$G$93)+$H$22 -> 6.6142857
B39: 0.05 | C39: Fettstufe 3 Fettstufe 3 Fettstufe 3 Fettstufe 3
B40: U | C40: =(+'Auszahlung Erzeuger'!C35*'Auszahlung Erzeuger'!$C$92/'Auszahlung Erzeuger'!$C$93)+$C$22 -> 8.2979592 | D40: =(+'Auszahlung Erzeuger'!D35*'Auszahlung Erzeuger'!$D$92/'Auszahlung Erzeuger'!$D$93)+$D$22 -> 8.4510204 | E40: =(+'Auszahlung Erzeuger'!E35*'Auszahlung Erzeuger'!$E$92/'Auszahlung Erzeuger'!$E$93)+$E$22 -> 8.4510204 | F40: =(+'Auszahlung Erzeuger'!F35*'Auszahlung Erzeuger'!$F$92/'Auszahlung Erzeuger'!$F$93)+$F$22 -> 7.4306122 | G40: =(+'Auszahlung Erzeuger'!G35*'Auszahlung Erzeuger'!$G$92/'Auszahlung Erzeuger'!$G$93)+$H$22 -> 7.9408163 | H40: =(+'Auszahlung Erzeuger'!H35*'Auszahlung Erzeuger'!$G$92/'Auszahlung Erzeuger'!$G$93)+$H$22 -> 7.7367347
B41: R | C41: =(+'Auszahlung Erzeuger'!C36*'Auszahlung Erzeuger'!$C$92/'Auszahlung Erzeuger'!$C$93)+$C$22 -> 8.1959184 | D41: =(+'Auszahlung Erzeuger'!D36*'Auszahlung Erzeuger'!$D$92/'Auszahlung Erzeuger'!$D$93)+$D$22 -> 8.3489796 | E41: =(+'Auszahlung Erzeuger'!E36*'Auszahlung Erzeuger'!$E$92/'Auszahlung Erzeuger'!$E$93)+$E$22 -> 8.3489796 | F41: =(+'Auszahlung Erzeuger'!F36*'Auszahlung Erzeuger'!$F$92/'Auszahlung Erzeuger'!$F$93)+$F$22 -> 7.3795918 | G41: =(+'Auszahlung Erzeuger'!G36*'Auszahlung Erzeuger'!$G$92/'Auszahlung Erzeuger'!$G$93)+$H$22 -> 7.8897959 | H41: =(+'Auszahlung Erzeuger'!H36*'Auszahlung Erzeuger'!$G$92/'Auszahlung Erzeuger'!$G$93)+$H$22 -> 7.6857143
B42: O | C42: =(+'Auszahlung Erzeuger'!C37*'Auszahlung Erzeuger'!$C$92/'Auszahlung Erzeuger'!$C$93)+$C$22 -> 8.0428571 | D42: =(+'Auszahlung Erzeuger'!D37*'Auszahlung Erzeuger'!$D$92/'Auszahlung Erzeuger'!$D$93)+$D$22 -> 8.0938776 | E42: =(+'Auszahlung Erzeuger'!E37*'Auszahlung Erzeuger'!$E$92/'Auszahlung Erzeuger'!$E$93)+$E$22 -> 8.0938776 | F42: =(+'Auszahlung Erzeuger'!F37*'Auszahlung Erzeuger'!$F$92/'Auszahlung Erzeuger'!$F$93)+$F$22 -> 7.1755102 | G42: =(+'Auszahlung Erzeuger'!G37*'Auszahlung Erzeuger'!$G$92/'Auszahlung Erzeuger'!$G$93)+$H$22 -> 7.6857143 | H42: =(+'Auszahlung Erzeuger'!H37*'Auszahlung Erzeuger'!$G$92/'Auszahlung Erzeuger'!$G$93)+$H$22 -> 7.4816327
B43: P | C43: =(+'Auszahlung Erzeuger'!C38*'Auszahlung Erzeuger'!$C$92/'Auszahlung Erzeuger'!$C$93)+$C$22 -> 6.6142857 | D43: =(+'Auszahlung Erzeuger'!D38*'Auszahlung Erzeuger'!$D$92/'Auszahlung Erzeuger'!$D$93)+$D$22 -> 6.6142857 | E43: =(+'Auszahlung Erzeuger'!E38*'Auszahlung Erzeuger'!$E$92/'Auszahlung Erzeuger'!$E$93)+$E$22 -> 6.5122449 | F43: =(+'Auszahlung Erzeuger'!F38*'Auszahlung Erzeuger'!$F$92/'Auszahlung Erzeuger'!$F$93)+$F$22 -> 6.5122449 | G43: =(+'Auszahlung Erzeuger'!G38*'Auszahlung Erzeuger'!$G$92/'Auszahlung Erzeuger'!$G$93)+$H$22 -> 6.6142857 | H43: =(+'Auszahlung Erzeuger'!H38*'Auszahlung Erzeuger'!$G$92/'Auszahlung Erzeuger'!$G$93)+$H$22 -> 6.6142857
B44: -0.1 | C44: Fettstufe 4 Fettstufe 4 Fettstufe 4 Fettstufe 4
B45: U | C45: =(+'Auszahlung Erzeuger'!C40*'Auszahlung Erzeuger'!$C$92/'Auszahlung Erzeuger'!$C$93)+$C$22 -> 8.144898 | D45: =(+'Auszahlung Erzeuger'!D40*'Auszahlung Erzeuger'!$D$92/'Auszahlung Erzeuger'!$D$93)+$D$22 -> 8.2979592 | E45: =(+'Auszahlung Erzeuger'!E40*'Auszahlung Erzeuger'!$E$92/'Auszahlung Erzeuger'!$E$93)+$E$22 -> 8.2979592 | F45: =(+'Auszahlung Erzeuger'!F40*'Auszahlung Erzeuger'!$F$92/'Auszahlung Erzeuger'!$F$93)+$F$22 -> 7.277551 | G45: =(+'Auszahlung Erzeuger'!G40*'Auszahlung Erzeuger'!$G$92/'Auszahlung Erzeuger'!$G$93)+$H$22 -> 7.7877551 | H45: =(+'Auszahlung Erzeuger'!H40*'Auszahlung Erzeuger'!$G$92/'Auszahlung Erzeuger'!$G$93)+$H$22 -> 7.5836735
B46: R | C46: =(+'Auszahlung Erzeuger'!C41*'Auszahlung Erzeuger'!$C$92/'Auszahlung Erzeuger'!$C$93)+$C$22 -> 8.0428571 | D46: =(+'Auszahlung Erzeuger'!D41*'Auszahlung Erzeuger'!$D$92/'Auszahlung Erzeuger'!$D$93)+$D$22 -> 8.1959184 | E46: =(+'Auszahlung Erzeuger'!E41*'Auszahlung Erzeuger'!$E$92/'Auszahlung Erzeuger'!$E$93)+$E$22 -> 8.1959184 | F46: =(+'Auszahlung Erzeuger'!F41*'Auszahlung Erzeuger'!$F$92/'Auszahlung Erzeuger'!$F$93)+$F$22 -> 7.2265306 | G46: =(+'Auszahlung Erzeuger'!G41*'Auszahlung Erzeuger'!$G$92/'Auszahlung Erzeuger'!$G$93)+$H$22 -> 7.7367347 | H46: =(+'Auszahlung Erzeuger'!H41*'Auszahlung Erzeuger'!$G$92/'Auszahlung Erzeuger'!$G$93)+$H$22 -> 7.5326531
...

Sheet Tabelle1
B2: RD- 01-21 mit Preisen 01.08.2025
B4: Erzeuger/Lieferant | C4: SG | D4: Art | E4: Klasse | F4: Auszahlungs-preis Netto | G4: Gesamt | J4: Kalt
A5: R040121Ro | B5: Johannshof GbR, 26629 Großefehn | C5: 275.1 | D5: E | E5: R2 | F5: =+'Auszahlung Erzeuger'!C31 -> 7.1 | G5: =+F5*C5 -> 1953.21 | I5: 7.6 | J5: =+I5*(C5*0.975) -> 2038.491
A6: R040121Ro | B6: Johannshof GbR, 26629 Großefehn | C6: 342.7 | D6: E | E6: U2 | F6: =+'Auszahlung Erzeuger'!C30 -> 7.2 | G6: =+F6*C6 -> 2467.44 | I6: 7.6 | J6: =+I6*(C6*0.975) -> 2539.407
A7: R040121Ro | B7: Johannshof GbR, 26629 Großefehn | C7: 378.9 | D7: E | E7: U2 | F7: =+'Auszahlung Erzeuger'!C30 -> 7.2 | G7: =+F7*C7 -> 2728.08 | I7: 7.6 | J7: =+I7*(C7*0.975) -> 2807.649
A8: R040121Ro | B8: Johannshof GbR, 26629 Großefehn | C8: 387.5 | D8: E | E8: U2 | F8: =+'Auszahlung Erzeuger'!C30 -> 7.2 | G8: =+F8*C8 -> 2790 | I8: 7.65 | J8: =+I8*(C8*0.975) -> 2890.2656
A9: R040121Ro | B9: Johannshof GbR, 26629 Großefehn | C9: 376.3 | D9: D | E9: U2 | F9: =+'Auszahlung Erzeuger'!$F$30 -> 6.35 | G9: =+F9*C9 -> 2389.505 | I9: 7.65 | J9: =+I9*(C9*0.975) -> 2806.7276
A10: R040121Ro | B10: Johannshof GbR, 26629 Großefehn | C10: 400.1 | D10: D | E10: U2 | F10: =+'Auszahlung Erzeuger'!$F$30 -> 6.35 | G10: =+F10*C10 -> 2540.635 | I10: 7.65 | J10: =+I10*(C10*0.975) -> 2984.2459
A11: R040121Ro | B11: Johannshof GbR, 26629 Großefehn | C11: 264.9 | D11: D | E11: R2 | F11: =+'Auszahlung Erzeuger'!$F$31 -> 6.3 | G11: =+F11*C11 -> 1668.87 | I11: 7.55 | J11: =+I11*(C11*0.975) -> 1949.9951
A12: R040121Ro | B12: Johannshof GbR, 26629 Großefehn | C12: 366.9 | D12: D | E12: R2 | F12: =+'Auszahlung Erzeuger'!$F$31 -> 6.3 | G12: =+F12*C12 -> 2311.47 | I12: 7.55 | J12: =+I12*(C12*0.975) -> 2700.8426
A13: R040121Ro | B13: Johannshof GbR, 26629 Großefehn | C13: 341.7 | D13: D | E13: R1 | F13: =+'Auszahlung Erzeuger'!$F$26 -> 6.2 | G13: =+F13*C13 -> 2118.54 | I13: 7.55 | J13: =+I13*(C13*0.975) -> 2515.3391
A14: R040121Ro | B14: Johannshof GbR, 26629 Großefehn | C14: 376.7 | D14: D | E14: O3 | F14: =+'Auszahlung Erzeuger'!$F$37 -> 6.15 | G14: =+F14*C14 -> 2316.705 | I14: 7.45 | J14: =+I14*(C14*0.975) -> 2736.2546
A15: R040121Ro | B15: Johannshof GbR, 26629 Großefehn | C15: 367.9 | D15: D | E15: R2 | F15: =+'Auszahlung Erzeuger'!$F$31 -> 6.3 | G15: =+F15*C15 -> 2317.77 | I15: 7.55 | J15: =+I15*(C15*0.975) -> 2708.2039
A16: R040121Ro | B16: Johannshof GbR, 26629 Großefehn | C16: 335.1 | D16: D | E16: R1 | F16: =+'Auszahlung Erzeuger'!$F$26 -> 6.2 | G16: =+F16*C16 -> 2077.62 | I16: 7.55 | J16: =+I16*(C16*0.975) -> 2466.7549
A17: R040121Ro | B17: Johannshof GbR, 26629 Großefehn | C17: 334.3 | D17: D | E17: R2 | F17: =+'Auszahlung Erzeuger'!$F$31 -> 6.3 | G17: =+F17*C17 -> 2106.09 | I17: 7.55 | J17: =+I17*(C17*0.975) -> 2460.8659
A18: R040121Ro | B18: Johannshof GbR, 26629 Großefehn | C18: 405.3 | D18: D | E18: U2 | F18: =+'Auszahlung Erzeuger'!$F$30 -> 6.35 | G18: =+F18*C18 -> 2573.655 | I18: 7.65 | J18: =+I18*(C18*0.975) -> 3023.0314
A19: R040121Ro | B19: Borchers-Junge GbR, 26160 Bad Zwischenahn | C19: 263.9 | D19: C | E19: O2 | F19: =+'Auszahlung Erzeuger'!$D$32 -> 7 | G19: =+F19*C19 -> 1847.3 | I19: 7.9 | J19: =+I19*(C19*0.975) -> 2032.6897
A20: R040121Ro | B20: Borchers-Junge GbR, 26160 Bad Zwischenahn | C20: 330.9 | D20: E | E20: O2 | F20: =+'Auszahlung Erzeuger'!$C$31 -> 7.1 | G20: =+F20*C20 -> 2349.39 | I20: 7.6 | J20: =+I20*(C20*0.975) -> 2451.969
A21: R040121Ro | B21: Borchers-Junge GbR, 26160 Bad Zwischenahn | C21: 282.5 | D21: D | E21: O2 | F21: =+'Auszahlung Erzeuger'!$F$32 -> 6.1 | G21: =+F21*C21 -> 1723.25 | I21: 7.5 | J21: =+I21*(C21*0.975) -> 2065.7812
A22: R040121Ro | B22: Borchers-Junge GbR, 26160 Bad Zwischenahn | C22: 304.3 | D22: E | E22: O3 | F22: =+'Auszahlung Erzeuger'!$C$37 -> 7 | G22: =+F22*C22 -> 2130.1 | I22: 7.6 | J22: =+I22*(C22*0.975) -> 2254.863
A23: R040121Ro | B23: Borchers-Junge GbR, 26160 Bad Zwischenahn | C23: 314.3 | D23: E | E23: O3 | F23: =+'Auszahlung Erzeuger'!$C$37 -> 7 | G23: =+F23*C23 -> 2200.1 | I23: 7.6 | J23: =+I23*(C23*0.975) -> 2328.963
A24: R040121Ro | B24: Borchers-Junge GbR, 26160 Bad Zwischenahn | C24: 274.3 | D24: E | E24: O3 | F24: =+'Auszahlung Erzeuger'!$C$37 -> 7 | G24: =+F24*C24 -> 1920.1 | I24: 7.6 | J24: =+I24*(C24*0.975) -> 2032.563
A25: R040121Ro | B25: Borchers-Junge GbR, 26160 Bad Zwischenahn | C25: 349.9 | D25: E | E25: O3 | F25: =+'Auszahlung Erzeuger'!$C$37 -> 7 | G25: =+F25*C25 -> 2449.3 | I25: 7.6 | J25: =+I25*(C25*0.975) -> 2592.759
A26: R040121Ro | B26: Borchers-Junge GbR, 26160 Bad Zwischenahn | C26: 330.9 | D26: E | E26: O3 | F26: =+'Auszahlung Erzeuger'!$C$37 -> 7 | G26: =+F26*C26 -> 2316.3 | I26: 7.6 | J26: =+I26*(C26*0.975) -> 2451.969
A27: R040121Ro | B27: Borchers-Junge GbR, 26160 Bad Zwischenahn | C27: 331.9 | D27: D | E27: O2 | F27: =+'Auszahlung Erzeuger'!$F$32 -> 6.1 | G27: =+F27*C27 -> 2024.59 | I27: 7.45 | J27: =+I27*(C27*0.975) -> 2410.8386
A28: R040121Ro | B28: Borchers-Junge GbR, 26160 Bad Zwischenahn | C28: 363.9 | D28: C | E28: O3 | F28: =+'Auszahlung Erzeuger'!$F$37 -> 6.15 | G28: =+F28*C28 -> 2237.985 | I28: 7.45 | J28: =+I28*(C28*0.975) -> 2643.2786
A29: R110121Iz | B29: Dirk Schoof, 25761 Hedwigenkoog | C29: 373.6 | D29: D | E29: R2 | F29: =+'Auszahlung Erzeuger'!$F$31 -> 6.3 | G29: =+F29*C29 -> 2353.68 | I29: 7.55 | J29: =+I29*(C29*0.975) -> 2750.163
A30: R110121Iz | B30: Dirk Schoof, 25761 Hedwigenkoog | C30: 366.4 | D30: D | E30: O3 | F30: =+'Auszahlung Erzeuger'!$F$37 -> 6.15 | G30: =+F30*C30 -> 2253.36 | I30: 7.45 | J30: =+I30*(C30*0.975) -> 2661.438
A31: R110121Iz | B31: Dirk Schoof, 25761 Hedwigenkoog | C31: 376.8 | D31: D | E31: R3 | F31: =+'Auszahlung Erzeuger'!$F$36 -> 6.35 | G31: =+F31*C31 -> 2392.68 | I31: 7.45 | J31: =+I31*(C31*0.975) -> 2736.981
A32: R110121Iz | B32: Dirk Kock Rohwer, 24620 Bönebüttel | C32: 354.4 | D32: D | E32: O2 | F32: =+'Auszahlung Erzeuger'!$F$32 -> 6.1 | G32: =+F32*C32 -> 2161.84 | I32: 7.45 | J32: =+I32*(C32*0.975) -> 2574.273
A33: R110121Iz | B33: Dirk Kock Rohwer, 24620 Bönebüttel | C33: 297.8 | D33: D | E33: O3 | F33: =+'Auszahlung Erzeuger'!$F$37 -> 6.15 | G33: =+F33*C33 -> 1831.47 | I33: 7.45 | J33: =+I33*(C33*0.975) -> 2163.1448
A34: R110121Iz | B34: Dirk Kock Rohwer, 24620 Bönebüttel | C34: 347 | D34: D | E34: O3 | F34: =+'Auszahlung Erzeuger'!$F$37 -> 6.15 | G34: =+F34*C34 -> 2134.05 | I34: 7.45 | J34: =+I34*(C34*0.975) -> 2520.5212
A35: R110221Iz | B35: Gut Wulfsdorf, 22926 Ahrensburg | C35: 347 | D35: D | E35: O3 | F35: =+'Auszahlung Erzeuger'!$F$37 -> 6.15 | G35: =+F35*C35 -> 2134.05 | I35: 7.45 | J35: =+I35*(C35*0.975) -> 2520.5212
A36: R110221Iz | B36: Gut Wulfsdorf, 22926 Ahrensburg | C36: 379.4 | D36: D | E36: O3 | F36: =+'Auszahlung Erzeuger'!$F$37 -> 6.15 | G36: =+F36*C36 -> 2333.31 | I36: 7.45 | J36: =+I36*(C36*0.975) -> 2755.8667
A37: R110221Iz | B37: Marten Oest, 21762 Otterndorf | C37: 434.8 | D37: A | E37: U2 | F37: =+'Auszahlung Erzeuger'!$D$30 -> 7.35 | G37: =+F37*C37 -> 3195.78 | I37: 7.9 | J37: =+I37*(C37*0.975) -> 3349.047
A38: R110221Iz | B38: Marten Oest, 21762 Otterndorf | C38: 396.8 | D38: A | E38: U2 | F38: =+'Auszahlung Erzeuger'!$D$30 -> 7.35 | G38: =+F38*C38 -> 2916.48 | I38: 7.9 | J38: =+I38*(C38*0.975) -> 3056.352
A39: R110221Iz | B39: Marten Oest, 21762 Otterndorf | C39: 411 | D39: A | E39: R2 | F39: =+'Auszahlung Erzeuger'!$D$31 -> 7.25 | G39: =+F39*C39 -> 2979.75 | I39: 7.9 | J39: =+I39*(C39*0.975) -> 3165.7275
A40: R110221Iz | B40: Marten Oest, 21762 Otterndorf | C40: 466.6 | D40: A | E40: R2 | F40: =+'Auszahlung Erzeuger'!$D$31 -> 7.25 | G40: =+F40*C40 -> 3382.85 | I40: 7.9 | J40: =+I40*(C40*0.975) -> 3593.9865
A41: R110221Iz | B41: Marten Oest, 21762 Otterndorf | C41: 501.2 | D41: A | E41: R2 | F41: =+'Auszahlung Erzeuger'!$D$31 -> 7.25 | G41: =+F41*C41 -> 3633.7 | I41: 7.9 | J41: =+I41*(C41*0.975) -> 3860.493
A42: R110121SF | B42: Gut Sambach, 99974 Mühlhausen | C42: 319.2 | D42: D | E42: O2 | F42: =+'Auszahlung Erzeuger'!$F$32 -> 6.1 | G42: =+F42*C42 -> 1947.12 | I42: 7.45 | J42: =+I42*(C42*0.975) -> 2318.589
...
